BEGIN:VCALENDAR
PRODID:brasil.gov.agenda
VERSION:1.0
BEGIN:VEVENT
DTSTART:20200706T150000Z
DTEND:20200706T170000Z
DCREATED:20200703T123709Z
UID:Compromisso-5b8da41b06394d5cb8cd57138d58e24c
SEQUENCE:0
LAST-MODIFIED:20200703T123709Z
SUMMARY:Reunião Pró-reitores
DESCRIPTION:Planejamento\, objetivos e metas 2020-2021
LOCATION:Reitoria\, Campus JK\, Diamantina/MG
PRIORITY:3
TRANSP:0
END:VEVENT
END:VCALENDAR
