BEGIN:VCALENDAR
PRODID:brasil.gov.agenda
VERSION:1.0
BEGIN:VEVENT
DTSTART:20200706T140000Z
DTEND:20200706T150000Z
DCREATED:20200703T123147Z
UID:Compromisso-bd247a01386546acb0217b9140c460d2
SEQUENCE:0
LAST-MODIFIED:20200703T123147Z
SUMMARY:Reunião Prefeito de Curvelo
DESCRIPTION:Discussão sobre projetos para Fazenda do Moura
LOCATION:Compromisso on-line: https://conferenciaweb.rnp.br/webconf/maria-prisilina-de-souza
PRIORITY:3
TRANSP:0
END:VEVENT
END:VCALENDAR
