BEGIN:VCALENDAR
PRODID:brasil.gov.agenda
VERSION:1.0
BEGIN:VEVENT
DTSTART:20200706T100000Z
DTEND:20200706T101500Z
DCREATED:20200703T115738Z
UID:Compromisso-d6c10955f1b04bdb95e0ff65082aa4c4
SEQUENCE:0
LAST-MODIFIED:20200703T115740Z
SUMMARY:Colação de grau posterior
LOCATION:Reitoria\, Campus JK\, Diamantina/MG
PRIORITY:3
TRANSP:0
END:VEVENT
END:VCALENDAR
