BEGIN:VCALENDAR
PRODID:brasil.gov.agenda
VERSION:1.0
BEGIN:VEVENT
DTSTART:20200703T160000Z
DTEND:20200703T170000Z
DCREATED:20200703T122257Z
UID:Compromisso-158945dae1c54804b242191773536347
SEQUENCE:0
LAST-MODIFIED:20200703T122458Z
SUMMARY:Reunião Pró-Reitoria de Gestão de Pessoas (PROGEP)
DESCRIPTION:Distribuição de pessoal
LOCATION:Compromisso on-line: https://conferenciaweb.rnp.br/webconf/maria-prisilina-de-souza
PRIORITY:3
TRANSP:0
END:VEVENT
END:VCALENDAR
