BEGIN:VCALENDAR
PRODID:brasil.gov.agenda
VERSION:1.0
BEGIN:VEVENT
DTSTART:20200701T080000Z
DTEND:20200701T180000Z
DCREATED:20200630T125426Z
UID:Compromisso-c96983bb98324a769acd4d082b6a7369
SEQUENCE:0
LAST-MODIFIED:20200630T125616Z
SUMMARY:Despachos Internos
LOCATION:Reitoria\, Campus JK\, Diamantina/MG
PRIORITY:3
TRANSP:0
END:VEVENT
END:VCALENDAR
