BEGIN:VCALENDAR
PRODID:brasil.gov.agenda
VERSION:1.0
BEGIN:VEVENT
DTSTART:20200630T160000Z
DTEND:20200630T180000Z
DCREATED:20200629T203734Z
UID:Compromisso-a8d74890ba924bd6a5ac0d4eeadda7ec
SEQUENCE:0
LAST-MODIFIED:20200630T124726Z
SUMMARY:Reunião
DESCRIPTION:Pós-Graduação Medicina
LOCATION:Reitoria\, Campus JK\, Diamantina/MG
PRIORITY:3
TRANSP:0
END:VEVENT
END:VCALENDAR
