BEGIN:VCALENDAR
PRODID:brasil.gov.agenda
VERSION:1.0
BEGIN:VEVENT
DTSTART:20200630T170000Z
DTEND:20200630T180000Z
DCREATED:20200630T134952Z
UID:Compromisso-a9420bf3c6c44bab8c6ab8145d55b8db
SEQUENCE:0
LAST-MODIFIED:20200630T135049Z
SUMMARY:Reunião Pró-reitorias (PROAD/PROPLAN)
DESCRIPTION:Alinhamento de compras com recurso do COVID 19
LOCATION:Compromisso on-line: https://conferenciaweb.rnp.br/webconf/maria-prisilina-de-souza
PRIORITY:3
TRANSP:0
END:VEVENT
END:VCALENDAR
