BEGIN:VCALENDAR
PRODID:brasil.gov.agenda
VERSION:1.0
BEGIN:VEVENT
DTSTART:20200629T170000Z
DTEND:20200629T180000Z
DCREATED:20200629T194907Z
UID:Compromisso-d37e4e9c681b4ff19e54309e266dd184
SEQUENCE:0
LAST-MODIFIED:20200703T021833Z
SUMMARY:Reunião Diretoria de Tecnologia da Informação (DTI)
DESCRIPTION:- Demanda DTI
LOCATION:Reitoria\, Campus JK\, Diamantina/MG
PRIORITY:3
TRANSP:0
END:VEVENT
END:VCALENDAR
