BEGIN:VCALENDAR
PRODID:brasil.gov.agenda
VERSION:1.0
BEGIN:VEVENT
DTSTART:20200629T150000Z
DTEND:20200629T160000Z
DCREATED:20200629T181115Z
UID:Compromisso-b8fac749c09f49cf93e36621d6267aea
SEQUENCE:0
LAST-MODIFIED:20200703T021926Z
SUMMARY:Reunião Pró-Reitoria de Administração (PROAD)
DESCRIPTION:- Prioridades de obras
LOCATION:Reitoria\, Campus JK\, Diamantina/MG
PRIORITY:3
TRANSP:0
END:VEVENT
END:VCALENDAR
