BEGIN:VCALENDAR
PRODID:brasil.gov.agenda
VERSION:1.0
BEGIN:VEVENT
DTSTART:20190812T103000Z
DTEND:20190812T130000Z
DCREATED:20190821T190015Z
UID:Compromisso-44a41d42420f412db0a3271fe8477737
SEQUENCE:0
LAST-MODIFIED:20190821T190015Z
SUMMARY:Solenidade de Posse
LOCATION:Gabinete do Ministro
PRIORITY:3
TRANSP:0
END:VEVENT
END:VCALENDAR
